0.1
0
0
-0.1
603886.854525705
4740233.08759928
