0.1
0
0
-0.1
603895.604579533
4739654.74793654
