0.1
0
0
-0.1
597356.101304936
4658580.70893445
