0.1
0
0
-0.1
599925.014351938
4659773.56971392
