0.1
0
0
-0.1
598209.809823784
4659170.94595403
