0.1
0
0
-0.1
599071.51627677
4659183.11979251
