0.1
0
0
-0.1
598217.873851522
4658592.67120975
