0.1
0
0
-0.1
591302.404157399
4725593.16931368
