0.1
0
0
-0.1
595401.616433963
4737796.12005545
