0.1
0
0
-0.1
603904.354633441
4739076.40877162
