0.1
0
0
-0.1
599653.336174061
4738434.90235507
