0.1
0
0
-0.1
602209.193778113
4738472.59132945
