0.1
0
0
-0.1
602217.793019506
4737894.24692591
