0.1
0
0
-0.1
602226.392823389
4737315.90304751
