0.1
0
0
-0.1
605616.998962206
4738524.17112223
