0.1
0
0
-0.1
604773.862050844
4737932.77533829
