0.1
0
0
-0.1
603974.286277111
4734449.68525664
