0.1
0
0
-0.1
598998.276922732
4664387.62545646
