0.1
0
0
-0.1
599867.544059404
4663821.52287464
