0.1
0
0
-0.1
598153.362535037
4663218.88447448
