0.1
0
0
-0.1
597308.153370505
4662050.36288331
