0.1
0
0
-0.1
601614.868649469
4662111.24182511
