0.1
0
0
-0.1
626884.752174474
4646324.78579438
