0.1
0
0
-0.1
627748.084680328
4646340.30814905
