0.1
0
0
-0.1
626031.732615601
4645730.978459
