0.1
0
0
-0.1
627758.54200785
4645762.02701788
