0.1
0
0
-0.1
628632.466101136
4645199.26222116
