0.1
0
0
-0.1
627779.449478622
4644605.4610477
