0.1
0
0
-0.1
626947.024818424
4642855.099094
