0.1
0
0
-0.1
630391.361269273
4643496.07109859
