0.1
0
0
-0.1
632129.507112457
4642949.66322458
