0.1
0
0
-0.1
627842.087601833
4641135.77926107
