0.1
0
0
-0.1
631287.186711724
4641777.16775561
