0.1
0
0
-0.1
558947.648004473
4715986.47299321
