0.1
0
0
-0.1
579452.988391277
4716770.21138722
