0.1
0
0
-0.1
606749.604839148
4774987.66047242
