0.1
0
0
-0.1
608463.014351141
4773857.8276974
