0.1
0
0
-0.1
607523.567804754
4779628.28615273
