0.1
0
0
-0.1
607532.755649236
4779049.89051754
