0.1
0
0
-0.1
607541.942996489
4778471.49538018
