0.1
0
0
-0.1
606722.264439965
4776722.83866826
