0.1
0
0
-0.1
608416.7406122
4776749.78973797
