0.1
0
0
-0.1
610120.61809108
4776198.55620528
