0.1
0
0
-0.1
608435.256007139
4775593.0026452
