0.1
0
0
-0.1
608444.511208867
4775014.61084554
