0.1
0
0
-0.1
596261.736892902
4737229.56540759
