0.1
0
0
-0.1
601536.205597602
4726314.88809757
