0.1
0
0
-0.1
604105.314505329
4725774.67365257
