0.1
0
0
-0.1
577364.946279355
4750294.64306226
