0.1
0
0
-0.1
579072.558417205
4749735.63123725
